BEGIN:VCALENDAR
VERSION:2.0
PRODID:-//Charles Darwin Events//EN
BEGIN:VEVENT
SUMMARY:Respect Month Installation - Casuarina
UID:ac0cff68-6742-44d6-86eb-0e2e9de8f6b5
DTSTART:20260420T023000Z
DTEND:20260420T043000Z
DTSTAMP:20260312T005325Z
LOCATION:Red 8, Casuarina Library Foyer
DESCRIPTION:Guided by the "Stronger Together" theme, the Danala installation invites students to reflect on a story of gender-based violence to better understand our shared responsibility in noticing, responding to, and supporting one another within the university community.
URL:https://www.cdu.edu.au/events/respect-month-installation-casuarina
END:VEVENT
END:VCALENDAR
