BEGIN:VCALENDAR
VERSION:2.0
PRODID:-//Charles Darwin Events//EN
BEGIN:VEVENT
SUMMARY:Sound Bath meditation
UID:8c00a952-4212-45ac-ad14-ea686982d6f5
DTSTART:20260430T030000Z
DTEND:20260430T040000Z
DTSTAMP:20260312T010059Z
LOCATION:
DESCRIPTION:To conclude Respect Month, CDU students and staff are invited to a free, restorative sound bath meditation featuring crystal singing bowls designed to release tension and promote inner peace.
URL:https://www.cdu.edu.au/events/sound-bath-meditation
END:VEVENT
END:VCALENDAR
