BEGIN:VCALENDAR
VERSION:2.0
PRODID:-//Charles Darwin Events//EN
BEGIN:VEVENT
SUMMARY:Lunch and Learn - Deconstructing Power and Privilege
UID:9a50067b-4875-47d5-a3ce-e462c434a492
DTSTART:20260416T020000Z
DTEND:20260416T030000Z
DTSTAMP:20260331T005354Z
LOCATION:Online
DESCRIPTION:This interactive session explores how power, privilege, and individual identity influence decision-making and team dynamics within the workplace. Participants will gain practical tools and self-awareness to help foster more inclusive, equitable, and respectful professional environments.
URL:https://www.cdu.edu.au/events/lunch-learn-deconstructing-power-privilege
END:VEVENT
END:VCALENDAR
