BEGIN:VCALENDAR
VERSION:2.0
PRODID:-//Charles Darwin Events//EN
BEGIN:VEVENT
SUMMARY:My neighbourhood
UID:37529b15-2b68-4cfc-859c-0fefa2b49983
DTSTART:20260403T150000Z
DTEND:20260425T073000Z
DTSTAMP:20260401T062018Z
LOCATION:Casuarina Campus Library - Level 1
DESCRIPTION:This collaborative event invites community members to build and decorate paper structures at the Casuarina Campus library to create an evolving "My Neighbourhood" display.
URL:https://www.cdu.edu.au/events/my-neighbourhood
END:VEVENT
END:VCALENDAR
